BEGIN:VCALENDAR
VERSION:2.0
PRODID:-//Redeemer West Side - ECPv6.15.20//NONSGML v1.0//EN
CALSCALE:GREGORIAN
METHOD:PUBLISH
X-WR-CALNAME:Redeemer West Side
X-ORIGINAL-URL:https://redeemerws.com
X-WR-CALDESC:Events for Redeemer West Side
REFRESH-INTERVAL;VALUE=DURATION:PT1H
X-Robots-Tag:noindex
X-PUBLISHED-TTL:PT1H
BEGIN:VTIMEZONE
TZID:America/New_York
BEGIN:DAYLIGHT
TZOFFSETFROM:-0500
TZOFFSETTO:-0400
TZNAME:EDT
DTSTART:20240310T070000
END:DAYLIGHT
BEGIN:STANDARD
TZOFFSETFROM:-0400
TZOFFSETTO:-0500
TZNAME:EST
DTSTART:20241103T060000
END:STANDARD
BEGIN:DAYLIGHT
TZOFFSETFROM:-0500
TZOFFSETTO:-0400
TZNAME:EDT
DTSTART:20250309T070000
END:DAYLIGHT
BEGIN:STANDARD
TZOFFSETFROM:-0400
TZOFFSETTO:-0500
TZNAME:EST
DTSTART:20251102T060000
END:STANDARD
BEGIN:DAYLIGHT
TZOFFSETFROM:-0500
TZOFFSETTO:-0400
TZNAME:EDT
DTSTART:20260308T070000
END:DAYLIGHT
BEGIN:STANDARD
TZOFFSETFROM:-0400
TZOFFSETTO:-0500
TZNAME:EST
DTSTART:20261101T060000
END:STANDARD
END:VTIMEZONE
BEGIN:VTIMEZONE
TZID:UTC
BEGIN:STANDARD
TZOFFSETFROM:+0000
TZOFFSETTO:+0000
TZNAME:UTC
DTSTART:20240101T000000
END:STANDARD
END:VTIMEZONE
BEGIN:VEVENT
DTSTART;TZID=America/New_York:20250903T180000
DTEND;TZID=America/New_York:20250903T210000
DTSTAMP:20260424T050211
CREATED:20250818T202647Z
LAST-MODIFIED:20250818T202936Z
UID:10018709-1756922400-1756933200@redeemerws.com
SUMMARY:Sing\, Play\, Speak
DESCRIPTION:Are you a vocational singer\, instrumentalist\, actor\, or writer? Looking for an opportunity to share your work in front of a network of peers? Register for Sing\, Play\, Speak\, a monthly gathering of working artists who follow Jesus in NYC\, designed to create community and encouragement. Our first meeting is on Wednesday\, September 3\, at 6 pm. \nEvenings include a meal followed by performances. \nRegister in advance at this link.
URL:https://redeemerws.com/event/sing-play-speak/
CATEGORIES:Social Events,W83 Ministry Center
ATTACH;FMTTYPE=image/jpeg:https://redeemerws.com/wp-content/uploads/2025/08/Sing-Play-Speak.jpg
END:VEVENT
BEGIN:VEVENT
DTSTART;TZID=America/New_York:20250905T080000
DTEND;TZID=America/New_York:20250905T090000
DTSTAMP:20260424T050211
CREATED:20250820T155106Z
LAST-MODIFIED:20251222T214522Z
UID:10018711-1757059200-1757062800@redeemerws.com
SUMMARY:Coffee Club - W64
DESCRIPTION:Up for meeting new people or just want to start your Friday morning off with others? Meet us at Rosetta Bakery (1928 Broadway at W 64th St) to connect with other Redeemer West Siders casually over a morning beverage. \nDay & Time: Fridays\, 8 to 9 am\nLocation: Rosetta Bakery\, 1928 Broadway at W 64th St \nPre-registration is not required but encouraged. Look for a “Coffee Club” marked table and friendly Redeemer faces (hosted by RWS members\, Candace & Melanie)\, and come stop by with your morning cup! \nMore info at redeemerws.com/coffeeclub1 \nQuestions? Contact Susana Gough
URL:https://redeemerws.com/event/coffee-club-w64-2-2/2025-09-05/
LOCATION:Rosetta Bakery\, 1928 Broadway\, New York\, NY\, 10023\, United States
CATEGORIES:Social Events
END:VEVENT
BEGIN:VEVENT
DTSTART;TZID=America/New_York:20250905T080000
DTEND;TZID=America/New_York:20250905T090000
DTSTAMP:20260424T050211
CREATED:20250820T160358Z
LAST-MODIFIED:20251222T214400Z
UID:10018754-1757059200-1757062800@redeemerws.com
SUMMARY:Coffee Club - W95
DESCRIPTION:Up for meeting new people or just want to start your Friday morning off with others? Meet us at Charlotte Cafe (2541 Broadway at W. 95th St.) to connect with other Redeemer West Siders casually over a morning beverage. \nDay & Time: Fridays\, 8 to 9 am\nLocation: Charlotte Cafe\, 2541 Broadway at W. 95th St. \nPre-registration is not required but encouraged. Look for a “Coffee Club” marked table and friendly Redeemer faces (hosted by RWS members\, Audry & Gary)\, and come stop by with your morning cup! \nMore info at redeemerws.com/coffeeclub2 \nQuestions? Contact Susana Gough
URL:https://redeemerws.com/event/coffee-club-w95-3-2/2025-09-05/
LOCATION:Charlotte Cafe\, 2541 Broadway\, New York\, NY\, 10025\, United States
CATEGORIES:Social Events
END:VEVENT
BEGIN:VEVENT
DTSTART;TZID=UTC:20250906T080000
DTEND;TZID=UTC:20250906T091500
DTSTAMP:20260424T050211
CREATED:20250715T192044Z
LAST-MODIFIED:20250919T175254Z
UID:10017758-1757145600-1757150100@redeemerws.com
SUMMARY:W83 Dashers
DESCRIPTION:Join us for a Saturday morning run around Central Park. Runners of all levels\, from beginners to marathon medalists\, are welcome! We run every week except in inclement weather. \nMeet us at the entrance to Central Park at 81st St at 8:00 am. We will begin our run at 8:10 am. \nWe will account for each runner’s goals and running plans\, as well as their pace\, in pairing people up for the morning. Advance registration encouraged. \nRegister: redeemerws.com/run \nQuestions? Contact Susana Gough
URL:https://redeemerws.com/event/w83-dashers-9-2/2025-09-06/
LOCATION:Tavern on the Green\, 67 Central Park West\, New York\, NY\, 10023\, United States
CATEGORIES:Social Events
GEO:40.7722597;-73.9776896
X-APPLE-STRUCTURED-LOCATION;VALUE=URI;X-ADDRESS=Tavern on the Green 67 Central Park West New York NY 10023 United States;X-APPLE-RADIUS=500;X-TITLE=67 Central Park West:geo:-73.9776896,40.7722597
END:VEVENT
BEGIN:VEVENT
DTSTART;TZID=America/New_York:20250907T104500
DTEND;TZID=America/New_York:20250907T121500
DTSTAMP:20260424T050211
CREATED:20250630T182025Z
LAST-MODIFIED:20250902T203129Z
UID:10017849-1757241900-1757247300@redeemerws.com
SUMMARY:Church Family Meal (1st Service)
DESCRIPTION:Join your RWS family for a delicious time as we break bread together and enjoy selections from a neighborhood favorite! Dietary restrictions have been considered for this gathering\, so join us on the 5th floor\, following your regular church service. \nQuestions? Contact Nicole Harris\, nicole.harris@redeemerws.com.
URL:https://redeemerws.com/event/church-family-meal-4/
CATEGORIES:Social Events
END:VEVENT
BEGIN:VEVENT
DTSTART;TZID=America/New_York:20250907T124500
DTEND;TZID=America/New_York:20250907T140000
DTSTAMP:20260424T050211
CREATED:20250630T203549Z
LAST-MODIFIED:20250630T203651Z
UID:10017862-1757249100-1757253600@redeemerws.com
SUMMARY:20s & 30s Sunday Brunch
DESCRIPTION:Interested in brunching with others after the 11:30 am worship service? Members of the 20s & 30s Group would like to welcome others in their 20s or 30s to join them for Sunday brunch. The group will gather by the gallery area after the second worship service and head out to a local restaurant together. RSVP to join the weekly mailing list. \nRSVP: redeemerws.com/sundaybrunch \nQuestions? Contact Susana Gough
URL:https://redeemerws.com/event/20s-30s-sunday-brunch/2025-09-07/
LOCATION:TBD\, New York\, NY\, United States
CATEGORIES:Social Events
ATTACH;FMTTYPE=image/jpeg:https://redeemerws.com/wp-content/uploads/2025/06/SundayBrunch-scaled.jpg
END:VEVENT
BEGIN:VEVENT
DTSTART;TZID=America/New_York:20250907T124500
DTEND;TZID=America/New_York:20250907T140000
DTSTAMP:20260424T050211
CREATED:20250902T202950Z
LAST-MODIFIED:20250902T203049Z
UID:10020302-1757249100-1757253600@redeemerws.com
SUMMARY:Church Family Meal (2nd Service)
DESCRIPTION:Join your RWS family for a delicious time as we break bread together and enjoy selections from a neighborhood favorite! Dietary restrictions have been considered for this gathering\, so join us on the 5th floor\, following your regular church service. \nQuestions? Contact Nicole Harris\, nicole.harris@redeemerws.com.
URL:https://redeemerws.com/event/church-family-meal-2nd-service/
CATEGORIES:Social Events
END:VEVENT
BEGIN:VEVENT
DTSTART;TZID=America/New_York:20250912T080000
DTEND;TZID=America/New_York:20250912T090000
DTSTAMP:20260424T050211
CREATED:20250820T155106Z
LAST-MODIFIED:20251222T214522Z
UID:10018712-1757664000-1757667600@redeemerws.com
SUMMARY:Coffee Club - W64
DESCRIPTION:Up for meeting new people or just want to start your Friday morning off with others? Meet us at Rosetta Bakery (1928 Broadway at W 64th St) to connect with other Redeemer West Siders casually over a morning beverage. \nDay & Time: Fridays\, 8 to 9 am\nLocation: Rosetta Bakery\, 1928 Broadway at W 64th St \nPre-registration is not required but encouraged. Look for a “Coffee Club” marked table and friendly Redeemer faces (hosted by RWS members\, Candace & Melanie)\, and come stop by with your morning cup! \nMore info at redeemerws.com/coffeeclub1 \nQuestions? Contact Susana Gough
URL:https://redeemerws.com/event/coffee-club-w64-2-2/2025-09-12/
LOCATION:Rosetta Bakery\, 1928 Broadway\, New York\, NY\, 10023\, United States
CATEGORIES:Social Events
END:VEVENT
BEGIN:VEVENT
DTSTART;TZID=America/New_York:20250912T080000
DTEND;TZID=America/New_York:20250912T090000
DTSTAMP:20260424T050211
CREATED:20250820T160358Z
LAST-MODIFIED:20251222T214400Z
UID:10018755-1757664000-1757667600@redeemerws.com
SUMMARY:Coffee Club - W95
DESCRIPTION:Up for meeting new people or just want to start your Friday morning off with others? Meet us at Charlotte Cafe (2541 Broadway at W. 95th St.) to connect with other Redeemer West Siders casually over a morning beverage. \nDay & Time: Fridays\, 8 to 9 am\nLocation: Charlotte Cafe\, 2541 Broadway at W. 95th St. \nPre-registration is not required but encouraged. Look for a “Coffee Club” marked table and friendly Redeemer faces (hosted by RWS members\, Audry & Gary)\, and come stop by with your morning cup! \nMore info at redeemerws.com/coffeeclub2 \nQuestions? Contact Susana Gough
URL:https://redeemerws.com/event/coffee-club-w95-3-2/2025-09-12/
LOCATION:Charlotte Cafe\, 2541 Broadway\, New York\, NY\, 10025\, United States
CATEGORIES:Social Events
END:VEVENT
BEGIN:VEVENT
DTSTART;TZID=UTC:20250913T080000
DTEND;TZID=UTC:20250913T091500
DTSTAMP:20260424T050211
CREATED:20250715T192044Z
LAST-MODIFIED:20250919T175254Z
UID:10017759-1757750400-1757754900@redeemerws.com
SUMMARY:W83 Dashers
DESCRIPTION:Join us for a Saturday morning run around Central Park. Runners of all levels\, from beginners to marathon medalists\, are welcome! We run every week except in inclement weather. \nMeet us at the entrance to Central Park at 81st St at 8:00 am. We will begin our run at 8:10 am. \nWe will account for each runner’s goals and running plans\, as well as their pace\, in pairing people up for the morning. Advance registration encouraged. \nRegister: redeemerws.com/run \nQuestions? Contact Susana Gough
URL:https://redeemerws.com/event/w83-dashers-9-2/2025-09-13/
LOCATION:Tavern on the Green\, 67 Central Park West\, New York\, NY\, 10023\, United States
CATEGORIES:Social Events
GEO:40.7722597;-73.9776896
X-APPLE-STRUCTURED-LOCATION;VALUE=URI;X-ADDRESS=Tavern on the Green 67 Central Park West New York NY 10023 United States;X-APPLE-RADIUS=500;X-TITLE=67 Central Park West:geo:-73.9776896,40.7722597
END:VEVENT
BEGIN:VEVENT
DTSTART;TZID=America/New_York:20250914T124500
DTEND;TZID=America/New_York:20250914T140000
DTSTAMP:20260424T050211
CREATED:20250630T203549Z
LAST-MODIFIED:20250630T203651Z
UID:10017863-1757853900-1757858400@redeemerws.com
SUMMARY:20s & 30s Sunday Brunch
DESCRIPTION:Interested in brunching with others after the 11:30 am worship service? Members of the 20s & 30s Group would like to welcome others in their 20s or 30s to join them for Sunday brunch. The group will gather by the gallery area after the second worship service and head out to a local restaurant together. RSVP to join the weekly mailing list. \nRSVP: redeemerws.com/sundaybrunch \nQuestions? Contact Susana Gough
URL:https://redeemerws.com/event/20s-30s-sunday-brunch/2025-09-14/
LOCATION:TBD\, New York\, NY\, United States
CATEGORIES:Social Events
ATTACH;FMTTYPE=image/jpeg:https://redeemerws.com/wp-content/uploads/2025/06/SundayBrunch-scaled.jpg
END:VEVENT
BEGIN:VEVENT
DTSTART;TZID=America/New_York:20250919T080000
DTEND;TZID=America/New_York:20250919T090000
DTSTAMP:20260424T050211
CREATED:20250820T155106Z
LAST-MODIFIED:20251222T214522Z
UID:10018713-1758268800-1758272400@redeemerws.com
SUMMARY:Coffee Club - W64
DESCRIPTION:Up for meeting new people or just want to start your Friday morning off with others? Meet us at Rosetta Bakery (1928 Broadway at W 64th St) to connect with other Redeemer West Siders casually over a morning beverage. \nDay & Time: Fridays\, 8 to 9 am\nLocation: Rosetta Bakery\, 1928 Broadway at W 64th St \nPre-registration is not required but encouraged. Look for a “Coffee Club” marked table and friendly Redeemer faces (hosted by RWS members\, Candace & Melanie)\, and come stop by with your morning cup! \nMore info at redeemerws.com/coffeeclub1 \nQuestions? Contact Susana Gough
URL:https://redeemerws.com/event/coffee-club-w64-2-2/2025-09-19/
LOCATION:Rosetta Bakery\, 1928 Broadway\, New York\, NY\, 10023\, United States
CATEGORIES:Social Events
END:VEVENT
BEGIN:VEVENT
DTSTART;TZID=America/New_York:20250919T080000
DTEND;TZID=America/New_York:20250919T090000
DTSTAMP:20260424T050211
CREATED:20250820T160358Z
LAST-MODIFIED:20251222T214400Z
UID:10018756-1758268800-1758272400@redeemerws.com
SUMMARY:Coffee Club - W95
DESCRIPTION:Up for meeting new people or just want to start your Friday morning off with others? Meet us at Charlotte Cafe (2541 Broadway at W. 95th St.) to connect with other Redeemer West Siders casually over a morning beverage. \nDay & Time: Fridays\, 8 to 9 am\nLocation: Charlotte Cafe\, 2541 Broadway at W. 95th St. \nPre-registration is not required but encouraged. Look for a “Coffee Club” marked table and friendly Redeemer faces (hosted by RWS members\, Audry & Gary)\, and come stop by with your morning cup! \nMore info at redeemerws.com/coffeeclub2 \nQuestions? Contact Susana Gough
URL:https://redeemerws.com/event/coffee-club-w95-3-2/2025-09-19/
LOCATION:Charlotte Cafe\, 2541 Broadway\, New York\, NY\, 10025\, United States
CATEGORIES:Social Events
END:VEVENT
BEGIN:VEVENT
DTSTART;TZID=America/New_York:20250919T170000
DTEND;TZID=America/New_York:20250919T190000
DTSTAMP:20260424T050211
CREATED:20250805T174559Z
LAST-MODIFIED:20250805T174559Z
UID:10018624-1758301200-1758308400@redeemerws.com
SUMMARY:"Another Part of Me" Art Exhibit Opening Reception by AHRC NYC’s Fisher Center Artists
DESCRIPTION:Join us at the W83 Ministry Center for a special opportunity to explore the many dimensions of self\, connection\, and creativity through a vibrant collection of drawings\, paintings\, and fiber art by the Fisher Center Artists. Based in East Harlem\, the Fisher Center is a day program serving adults with intellectual disabilities. The Center’s weaving program is presented in collaboration with Intertwine Arts\, a nonprofit dedicated to bringing freeform weaving to people of all ages. As we welcome the autumn season in New York\, we invite you to experience this sensory-rich exhibit that celebrates curiosity\, color\, and community. \nThe exhibition features paintings\, drawings\, and fiber artworks created with the guidance and support of art consultants and teaching artists Jon Bunge and Naomi Lawrence. Drawing on their expertise\, talent\, and intuition\, Jon and Naomi help identify and nurture the unique artistic strengths of each Fisher Center artist. \nThe AHRC NYC is an organization committed to achieving equity for people with intellectual and developmental disabilities in New York City. \nFollow the AHRC NYC on Instagram @ahrcny. \n  \nExhibit opens on Friday\, September 19\, and runs through Sunday\, November 30.  \nGet your free tickets here.
URL:https://redeemerws.com/event/another-part-of-me/
LOCATION:W83 Ministry Center Gallery\, 150 W 83rd St\, New York\, NY\, 10024\, United States
CATEGORIES:Social Events,W83 Gallery,W83 Ministry Center
ORGANIZER;CN="W83 Ministry Center":MAILTO:w83@redeemer.com
END:VEVENT
BEGIN:VEVENT
DTSTART;TZID=UTC:20250920T090000
DTEND;TZID=UTC:20250920T101500
DTSTAMP:20260424T050211
CREATED:20250630T165651Z
LAST-MODIFIED:20260227T172054Z
UID:10020319-1758358800-1758363300@redeemerws.com
SUMMARY:W83 Dashers
DESCRIPTION:Join us for a Saturday morning run around Central Park. Runners of all levels\, from beginners to marathon medalists\, are welcome! We run every week except in inclement weather. \nMeet us at the entrance to Central Park at 81st St at 9:00 am. We will begin our run at 9:10 am. \nWe will account for each runner’s goals and running plans\, as well as their pace\, in pairing people up for the morning. Advance registration encouraged. \nRegister: redeemerws.com/run \nQuestions? Contact Susana Gough
URL:https://redeemerws.com/event/w83-dashers-10/2025-09-20/
LOCATION:Tavern on the Green\, 67 Central Park West\, New York\, NY\, 10023\, United States
CATEGORIES:Social Events
GEO:40.7722597;-73.9776896
X-APPLE-STRUCTURED-LOCATION;VALUE=URI;X-ADDRESS=Tavern on the Green 67 Central Park West New York NY 10023 United States;X-APPLE-RADIUS=500;X-TITLE=67 Central Park West:geo:-73.9776896,40.7722597
END:VEVENT
BEGIN:VEVENT
DTSTART;TZID=America/New_York:20250920T190000
DTEND;TZID=America/New_York:20250920T210000
DTSTAMP:20260424T050211
CREATED:20250814T173645Z
LAST-MODIFIED:20250814T175040Z
UID:10018658-1758394800-1758402000@redeemerws.com
SUMMARY:Learning to Trust - Album Release & Reception
DESCRIPTION:Oh Sparrow was born from a decade of shared faith and friendship between the worship directors of two different churches – Chris Weldon (Redeemer West Side Church) and Alex & Corey Fleeman (Atlanta Westside Church). Please join us as they perform songs from their second studio album Learning to Trust\, featuring guest artist Ginny Owens (Redeemer LSQ) and other musicians from the Redeemer Church Network. Reception to follow. \n  \nDoors open at 6:30 pm. Performance begins at 7 pm. Click HERE for more information and free tickets.
URL:https://redeemerws.com/event/learning-to-trust-album-release-reception/
LOCATION:W83 Ministry Center\, Sanctuary\, 150 W 83rd St\, New York\, 10024\, United States
CATEGORIES:Social Events,W83 Ministry Center
ATTACH;FMTTYPE=image/jpeg:https://redeemerws.com/wp-content/uploads/2025/08/Oh-Sparrow-Saturday.jpg
END:VEVENT
BEGIN:VEVENT
DTSTART;TZID=America/New_York:20250921T124500
DTEND;TZID=America/New_York:20250921T140000
DTSTAMP:20260424T050211
CREATED:20250630T203549Z
LAST-MODIFIED:20250630T203651Z
UID:10017864-1758458700-1758463200@redeemerws.com
SUMMARY:20s & 30s Sunday Brunch
DESCRIPTION:Interested in brunching with others after the 11:30 am worship service? Members of the 20s & 30s Group would like to welcome others in their 20s or 30s to join them for Sunday brunch. The group will gather by the gallery area after the second worship service and head out to a local restaurant together. RSVP to join the weekly mailing list. \nRSVP: redeemerws.com/sundaybrunch \nQuestions? Contact Susana Gough
URL:https://redeemerws.com/event/20s-30s-sunday-brunch/2025-09-21/
LOCATION:TBD\, New York\, NY\, United States
CATEGORIES:Social Events
ATTACH;FMTTYPE=image/jpeg:https://redeemerws.com/wp-content/uploads/2025/06/SundayBrunch-scaled.jpg
END:VEVENT
BEGIN:VEVENT
DTSTART;TZID=America/New_York:20250921T131500
DTEND;TZID=America/New_York:20250921T151500
DTSTAMP:20260424T050211
CREATED:20250826T184947Z
LAST-MODIFIED:20250826T184947Z
UID:10018796-1758460500-1758467700@redeemerws.com
SUMMARY:West Side Family Picnic
DESCRIPTION:Families are invited to meet in Central Park for a picnic celebrating the launch of this new ministry year! If you have kids in West Side Kids or West Side Youth\, this is the event for you! \nWhether you are a seasoned attender or a new family\, this is the perfect time to gather\, meet new friends\, and for kids to play together. We will meet on the lawn by Diana Ross Playground at the 81st entrance to Central Park\, pack a lunch\, bring a blanket\, and your favorite park games. We look forward to seeing you there!
URL:https://redeemerws.com/event/west-side-family-picnic/
LOCATION:Central Park\, West 81st St entrance\, NY\, 10024\, United States
CATEGORIES:Social Events,WS Kids,WS Youth
END:VEVENT
BEGIN:VEVENT
DTSTART;TZID=America/New_York:20250926T080000
DTEND;TZID=America/New_York:20250926T090000
DTSTAMP:20260424T050211
CREATED:20250820T155106Z
LAST-MODIFIED:20251222T214522Z
UID:10018714-1758873600-1758877200@redeemerws.com
SUMMARY:Coffee Club - W64
DESCRIPTION:Up for meeting new people or just want to start your Friday morning off with others? Meet us at Rosetta Bakery (1928 Broadway at W 64th St) to connect with other Redeemer West Siders casually over a morning beverage. \nDay & Time: Fridays\, 8 to 9 am\nLocation: Rosetta Bakery\, 1928 Broadway at W 64th St \nPre-registration is not required but encouraged. Look for a “Coffee Club” marked table and friendly Redeemer faces (hosted by RWS members\, Candace & Melanie)\, and come stop by with your morning cup! \nMore info at redeemerws.com/coffeeclub1 \nQuestions? Contact Susana Gough
URL:https://redeemerws.com/event/coffee-club-w64-2-2/2025-09-26/
LOCATION:Rosetta Bakery\, 1928 Broadway\, New York\, NY\, 10023\, United States
CATEGORIES:Social Events
END:VEVENT
BEGIN:VEVENT
DTSTART;TZID=America/New_York:20250926T080000
DTEND;TZID=America/New_York:20250926T090000
DTSTAMP:20260424T050211
CREATED:20250820T160358Z
LAST-MODIFIED:20251222T214400Z
UID:10018757-1758873600-1758877200@redeemerws.com
SUMMARY:Coffee Club - W95
DESCRIPTION:Up for meeting new people or just want to start your Friday morning off with others? Meet us at Charlotte Cafe (2541 Broadway at W. 95th St.) to connect with other Redeemer West Siders casually over a morning beverage. \nDay & Time: Fridays\, 8 to 9 am\nLocation: Charlotte Cafe\, 2541 Broadway at W. 95th St. \nPre-registration is not required but encouraged. Look for a “Coffee Club” marked table and friendly Redeemer faces (hosted by RWS members\, Audry & Gary)\, and come stop by with your morning cup! \nMore info at redeemerws.com/coffeeclub2 \nQuestions? Contact Susana Gough
URL:https://redeemerws.com/event/coffee-club-w95-3-2/2025-09-26/
LOCATION:Charlotte Cafe\, 2541 Broadway\, New York\, NY\, 10025\, United States
CATEGORIES:Social Events
END:VEVENT
BEGIN:VEVENT
DTSTART;TZID=UTC:20250927T090000
DTEND;TZID=UTC:20250927T101500
DTSTAMP:20260424T050211
CREATED:20250630T165651Z
LAST-MODIFIED:20260227T172054Z
UID:10020320-1758963600-1758968100@redeemerws.com
SUMMARY:W83 Dashers
DESCRIPTION:Join us for a Saturday morning run around Central Park. Runners of all levels\, from beginners to marathon medalists\, are welcome! We run every week except in inclement weather. \nMeet us at the entrance to Central Park at 81st St at 9:00 am. We will begin our run at 9:10 am. \nWe will account for each runner’s goals and running plans\, as well as their pace\, in pairing people up for the morning. Advance registration encouraged. \nRegister: redeemerws.com/run \nQuestions? Contact Susana Gough
URL:https://redeemerws.com/event/w83-dashers-10/2025-09-27/
LOCATION:Tavern on the Green\, 67 Central Park West\, New York\, NY\, 10023\, United States
CATEGORIES:Social Events
GEO:40.7722597;-73.9776896
X-APPLE-STRUCTURED-LOCATION;VALUE=URI;X-ADDRESS=Tavern on the Green 67 Central Park West New York NY 10023 United States;X-APPLE-RADIUS=500;X-TITLE=67 Central Park West:geo:-73.9776896,40.7722597
END:VEVENT
BEGIN:VEVENT
DTSTART;TZID=America/New_York:20250928T124500
DTEND;TZID=America/New_York:20250928T140000
DTSTAMP:20260424T050211
CREATED:20250630T203549Z
LAST-MODIFIED:20250630T203651Z
UID:10017865-1759063500-1759068000@redeemerws.com
SUMMARY:20s & 30s Sunday Brunch
DESCRIPTION:Interested in brunching with others after the 11:30 am worship service? Members of the 20s & 30s Group would like to welcome others in their 20s or 30s to join them for Sunday brunch. The group will gather by the gallery area after the second worship service and head out to a local restaurant together. RSVP to join the weekly mailing list. \nRSVP: redeemerws.com/sundaybrunch \nQuestions? Contact Susana Gough
URL:https://redeemerws.com/event/20s-30s-sunday-brunch/2025-09-28/
LOCATION:TBD\, New York\, NY\, United States
CATEGORIES:Social Events
ATTACH;FMTTYPE=image/jpeg:https://redeemerws.com/wp-content/uploads/2025/06/SundayBrunch-scaled.jpg
END:VEVENT
END:VCALENDAR