BEGIN:VCALENDAR
VERSION:2.0
PRODID:-//Redeemer West Side - ECPv6.15.20//NONSGML v1.0//EN
CALSCALE:GREGORIAN
METHOD:PUBLISH
X-ORIGINAL-URL:https://redeemerws.com
X-WR-CALDESC:Events for Redeemer West Side
REFRESH-INTERVAL;VALUE=DURATION:PT1H
X-Robots-Tag:noindex
X-PUBLISHED-TTL:PT1H
BEGIN:VTIMEZONE
TZID:America/New_York
BEGIN:DAYLIGHT
TZOFFSETFROM:-0500
TZOFFSETTO:-0400
TZNAME:EDT
DTSTART:20220313T070000
END:DAYLIGHT
BEGIN:STANDARD
TZOFFSETFROM:-0400
TZOFFSETTO:-0500
TZNAME:EST
DTSTART:20221106T060000
END:STANDARD
BEGIN:DAYLIGHT
TZOFFSETFROM:-0500
TZOFFSETTO:-0400
TZNAME:EDT
DTSTART:20230312T070000
END:DAYLIGHT
BEGIN:STANDARD
TZOFFSETFROM:-0400
TZOFFSETTO:-0500
TZNAME:EST
DTSTART:20231105T060000
END:STANDARD
BEGIN:DAYLIGHT
TZOFFSETFROM:-0500
TZOFFSETTO:-0400
TZNAME:EDT
DTSTART:20240310T070000
END:DAYLIGHT
BEGIN:STANDARD
TZOFFSETFROM:-0400
TZOFFSETTO:-0500
TZNAME:EST
DTSTART:20241103T060000
END:STANDARD
BEGIN:DAYLIGHT
TZOFFSETFROM:-0500
TZOFFSETTO:-0400
TZNAME:EDT
DTSTART:20250309T070000
END:DAYLIGHT
BEGIN:STANDARD
TZOFFSETFROM:-0400
TZOFFSETTO:-0500
TZNAME:EST
DTSTART:20251102T060000
END:STANDARD
BEGIN:DAYLIGHT
TZOFFSETFROM:-0500
TZOFFSETTO:-0400
TZNAME:EDT
DTSTART:20260308T070000
END:DAYLIGHT
BEGIN:STANDARD
TZOFFSETFROM:-0400
TZOFFSETTO:-0500
TZNAME:EST
DTSTART:20261101T060000
END:STANDARD
END:VTIMEZONE
BEGIN:VEVENT
DTSTART;TZID=America/New_York:20250921T131500
DTEND;TZID=America/New_York:20250921T151500
DTSTAMP:20260420T085455
CREATED:20250826T184947Z
LAST-MODIFIED:20250826T184947Z
UID:10018796-1758460500-1758467700@redeemerws.com
SUMMARY:West Side Family Picnic
DESCRIPTION:Families are invited to meet in Central Park for a picnic celebrating the launch of this new ministry year! If you have kids in West Side Kids or West Side Youth\, this is the event for you! \nWhether you are a seasoned attender or a new family\, this is the perfect time to gather\, meet new friends\, and for kids to play together. We will meet on the lawn by Diana Ross Playground at the 81st entrance to Central Park\, pack a lunch\, bring a blanket\, and your favorite park games. We look forward to seeing you there!
URL:https://redeemerws.com/event/west-side-family-picnic/
LOCATION:Central Park\, West 81st St entrance\, NY\, 10024\, United States
CATEGORIES:Social Events,WS Kids,WS Youth
END:VEVENT
BEGIN:VEVENT
DTSTART;TZID=America/New_York:20250730T190000
DTEND;TZID=America/New_York:20250730T210000
DTSTAMP:20260420T085455
CREATED:20250703T142702Z
LAST-MODIFIED:20250703T142733Z
UID:10018188-1753902000-1753909200@redeemerws.com
SUMMARY:20s & 30s Picnic
DESCRIPTION:You are invited to join the 20s & 30s Group for a Picnic Dinner in Central Park! Bring your dinner and a dessert to share\, and any favorite card and/or outdoor games as we enjoy the beautiful New York summer! \nWhen: Wednesday\, July 30 \nTime: 7pm \nWhere: W81st Entrance of Central Park\, south of the boulders past the Diana Ross Playground \n 
URL:https://redeemerws.com/event/20s-30s-picnic/
LOCATION:Central Park\, West 81st St entrance\, NY\, 10024\, United States
ATTACH;FMTTYPE=image/png:https://redeemerws.com/wp-content/uploads/2025/07/20s30s-Spring-Picnic-.png
END:VEVENT
BEGIN:VEVENT
DTSTART;TZID=America/New_York:20240602T130000
DTEND;TZID=America/New_York:20240602T143000
DTSTAMP:20260420T085455
CREATED:20240515T183526Z
LAST-MODIFIED:20240522T164901Z
UID:10008595-1717333200-1717338600@redeemerws.com
SUMMARY:West Side Kids Picnic
DESCRIPTION:West Side Families can join us for a Picnic in the Park after the 11:30 service.\nBring a blanket\, bring your favorite games\, and grab a packed lunch to join us on the lawn by Diane Ross Playground in Central Park.
URL:https://redeemerws.com/event/west-side-kids-picnic/
LOCATION:Central Park\, West 81st St entrance\, NY\, 10024\, United States
CATEGORIES:WS Kids
END:VEVENT
BEGIN:VEVENT
DTSTART;TZID=America/New_York:20230423T120000
DTEND;TZID=America/New_York:20230423T143000
DTSTAMP:20260420T085455
CREATED:20230329T172928Z
LAST-MODIFIED:20230329T172928Z
UID:10005461-1682251200-1682260200@redeemerws.com
SUMMARY:Youth Central Park Picnic Party
DESCRIPTION:West Side Youth is hosting a Central Park Picnic Party for all middle & high schoolers! Join us on Sunday\, April 23 as we gather in Central Park for lunch\, outdoor games\, and fellowship. \n\nWhen: Sunday\, April 23 from 12:00-2:30 PM\nWhere: Central Park\, in the green area just past the Diana Ross playground (81st & Central Park West entrance)\nWho: Middle Schoolers & High Schoolers are invited to attend\nCost: $10 to cover the meal\nTo Bring: A picnic blanket and a water bottle\n\nPlease register here if you plan to attend. Scholarships are available\, so please fill out our scholarship request form if that would be of help. \nIf you have any questions\, please get in touch at hello@wsyouth.com.
URL:https://redeemerws.com/event/youth-central-park-picnic-party/
LOCATION:Central Park\, West 81st St entrance\, NY\, 10024\, United States
CATEGORIES:WS Youth
END:VEVENT
END:VCALENDAR