BEGIN:VCALENDAR
VERSION:2.0
PRODID:-//Redeemer West Side - ECPv6.15.20//NONSGML v1.0//EN
CALSCALE:GREGORIAN
METHOD:PUBLISH
X-ORIGINAL-URL:https://redeemerws.com
X-WR-CALDESC:Events for Redeemer West Side
REFRESH-INTERVAL;VALUE=DURATION:PT1H
X-Robots-Tag:noindex
X-PUBLISHED-TTL:PT1H
BEGIN:VTIMEZONE
TZID:America/New_York
BEGIN:DAYLIGHT
TZOFFSETFROM:-0500
TZOFFSETTO:-0400
TZNAME:EDT
DTSTART:20240310T070000
END:DAYLIGHT
BEGIN:STANDARD
TZOFFSETFROM:-0400
TZOFFSETTO:-0500
TZNAME:EST
DTSTART:20241103T060000
END:STANDARD
BEGIN:DAYLIGHT
TZOFFSETFROM:-0500
TZOFFSETTO:-0400
TZNAME:EDT
DTSTART:20250309T070000
END:DAYLIGHT
BEGIN:STANDARD
TZOFFSETFROM:-0400
TZOFFSETTO:-0500
TZNAME:EST
DTSTART:20251102T060000
END:STANDARD
BEGIN:DAYLIGHT
TZOFFSETFROM:-0500
TZOFFSETTO:-0400
TZNAME:EDT
DTSTART:20260308T070000
END:DAYLIGHT
BEGIN:STANDARD
TZOFFSETFROM:-0400
TZOFFSETTO:-0500
TZNAME:EST
DTSTART:20261101T060000
END:STANDARD
BEGIN:DAYLIGHT
TZOFFSETFROM:-0500
TZOFFSETTO:-0400
TZNAME:EDT
DTSTART:20270314T070000
END:DAYLIGHT
BEGIN:STANDARD
TZOFFSETFROM:-0400
TZOFFSETTO:-0500
TZNAME:EST
DTSTART:20271107T060000
END:STANDARD
END:VTIMEZONE
BEGIN:VEVENT
DTSTART;TZID=America/New_York:20260227T170000
DTEND;TZID=America/New_York:20260301T170000
DTSTAMP:20260423T071642
CREATED:20260106T185531Z
LAST-MODIFIED:20260106T185531Z
UID:10020589-1772211600-1772384400@redeemerws.com
SUMMARY:West Side Youth Winter Retreat 2026
DESCRIPTION:REGISTER FOR THE LAKE CHAMPION WINTER RETREAT AT THIS LINK. \nJoin students from our church and nearby PCA churches for The Great Escape: a fun\, restful weekend filled with community\, activities\, and a time to grow in understanding of our Savior. \nWhat is the Great Escape?\nThe Great Escape has a threefold purpose. We want students to: \n\nEncounter rich teaching from God’s Word and heart-engaging worship\nBe discipled through significant time in small groups with their church leaders\nHave a TON of fun celebrating the unity and diversity of the Gospel as they worship\, play\, and learn alongside their peers from different churches.\n\nWhen?\nDepart: Friday\, February 27\,  from Redeemer West Side (150 W 83 St.)\nReturn: Sunday\, March 1 \nWho Can Join?\nAll students in grades 6–12 are invited to serve as campers. \nBuddy Pass System:\nIf you have a friend you’ve been wanting to invite on retreat\, we are using the Buddy Pass System. This means that you can bring one friend that is not active at Redeemer West Side for FREE. The Buddy’s parent/guardian just needs to fill out the form here. After this is processed\, they will receive a code to register for retreat. Only one Buddy Pass per youth per retreat. \nPricing: (includes lodging\, food\, activities & transportation) \n\nEarly bird: $225 through Jan 11\nRegular: $260 through Feb 15\nMulti-Sibling discount of $20 per child throughout the registration period\nAdult Volunteers: No cost \n\nScholarships available—please reach out if cost is a barrier! \nRegistration closes on February 15\, and no refunds will be given after this deadline. \nWho is the Speaker?\nWe’re excited to welcome Peter Ong to The Great Escape! Peter has served in ministry for nearly 20 years with a passion for justice\, compassion\, and reaching immigrant youth in New York City. He began at the Herald Youth Center and has since led youth ministries\, planted churches\, and equipped leaders through Redeemer City to City. \nPeter currently serves at Living Faith Community Church\, where he oversees community groups and continues his mission of gospel renewal. We can’t wait to hear from him! \nWhat to Bring?\nPack warm clothes\, sneakers\, toiletries\, medications\, a Bible and notebook. Snacks are provided. Student can bring optional money for the camp store/snack bar. Students stay in cabins with bedding\, pillows\, and towels provided. \nTechnology-Free Zone:\nTo help campers unplug and connect with others\, devices will be collected on Friday evening and returned at departure on Sunday. (If a student needs a device for schoolwork\, please contact us ahead of time.) \nQuestions? Email hello@wsyouth.com.
URL:https://redeemerws.com/event/wsy-winter-retreat-2026/
LOCATION:Lake Champion\, 247 Mohican Lake Rd\, Glen Spey\, NY\, 12737\, United States
CATEGORIES:WS Youth
END:VEVENT
BEGIN:VEVENT
DTSTART;TZID=America/New_York:20250207T170000
DTEND;TZID=America/New_York:20250209T170000
DTSTAMP:20260423T071642
CREATED:20241216T175311Z
LAST-MODIFIED:20241216T175311Z
UID:10009727-1738947600-1739120400@redeemerws.com
SUMMARY:West Side Youth Winter Retreat 2025
DESCRIPTION:REGISTER FOR LAKE CHAMPION WINTER RETREAT\nWinter Retreat registration is open! This year\, both high school and middle school students will attend The Great Escape Weekend. Registration is required. We can’t wait to see you at this special winter weekend of fun\, spiritual growth\, and deepening friendships! \n\nWhen: Friday\, February 7 to Sunday\, February 9\nWhere: Lake Champion Retreat Center\, Glen Spey\, NY.
URL:https://redeemerws.com/event/west-side-youth-winter-retreat-2025/
LOCATION:Lake Champion\, 247 Mohican Lake Rd\, Glen Spey\, NY\, 12737\, United States
CATEGORIES:WS Youth
END:VEVENT
END:VCALENDAR