BEGIN:VCALENDAR
VERSION:2.0
PRODID:-//Redeemer West Side - ECPv6.15.20//NONSGML v1.0//EN
CALSCALE:GREGORIAN
METHOD:PUBLISH
X-ORIGINAL-URL:https://redeemerws.com
X-WR-CALDESC:Events for Redeemer West Side
REFRESH-INTERVAL;VALUE=DURATION:PT1H
X-Robots-Tag:noindex
X-PUBLISHED-TTL:PT1H
BEGIN:VTIMEZONE
TZID:UTC
BEGIN:STANDARD
TZOFFSETFROM:+0000
TZOFFSETTO:+0000
TZNAME:UTC
DTSTART:20240101T000000
END:STANDARD
END:VTIMEZONE
BEGIN:VTIMEZONE
TZID:America/New_York
BEGIN:DAYLIGHT
TZOFFSETFROM:-0500
TZOFFSETTO:-0400
TZNAME:EDT
DTSTART:20240310T070000
END:DAYLIGHT
BEGIN:STANDARD
TZOFFSETFROM:-0400
TZOFFSETTO:-0500
TZNAME:EST
DTSTART:20241103T060000
END:STANDARD
BEGIN:DAYLIGHT
TZOFFSETFROM:-0500
TZOFFSETTO:-0400
TZNAME:EDT
DTSTART:20250309T070000
END:DAYLIGHT
BEGIN:STANDARD
TZOFFSETFROM:-0400
TZOFFSETTO:-0500
TZNAME:EST
DTSTART:20251102T060000
END:STANDARD
BEGIN:DAYLIGHT
TZOFFSETFROM:-0500
TZOFFSETTO:-0400
TZNAME:EDT
DTSTART:20260308T070000
END:DAYLIGHT
BEGIN:STANDARD
TZOFFSETFROM:-0400
TZOFFSETTO:-0500
TZNAME:EST
DTSTART:20261101T060000
END:STANDARD
BEGIN:DAYLIGHT
TZOFFSETFROM:-0500
TZOFFSETTO:-0400
TZNAME:EDT
DTSTART:20270314T070000
END:DAYLIGHT
BEGIN:STANDARD
TZOFFSETFROM:-0400
TZOFFSETTO:-0500
TZNAME:EST
DTSTART:20271107T060000
END:STANDARD
END:VTIMEZONE
BEGIN:VEVENT
DTSTART;TZID=UTC:20260421T070000
DTEND;TZID=UTC:20260421T081500
DTSTAMP:20260422T124059
CREATED:20250627T200157Z
LAST-MODIFIED:20251125T191708Z
UID:10017944-1776754800-1776759300@redeemerws.com
SUMMARY:Tuesday Morning Men
DESCRIPTION:All men are welcome to join us every week for fellowship\, Bible study and prayer. Our meetings are informal and no preparation is required. \nRegister: redeemerws.com/tuesdaymen \nQuestions? Contact Drew Melton
URL:https://redeemerws.com/event/tuesday-morning-men-4/2026-04-21/
LOCATION:W83 Ministry Center\, 5th Floor Loft\, 150 W. 83rd St.\, New York\, NY\, 10024\, United States
CATEGORIES:Community Groups
END:VEVENT
BEGIN:VEVENT
DTSTART;TZID=UTC:20260414T070000
DTEND;TZID=UTC:20260414T081500
DTSTAMP:20260422T124059
CREATED:20250627T200157Z
LAST-MODIFIED:20251125T191708Z
UID:10017943-1776150000-1776154500@redeemerws.com
SUMMARY:Tuesday Morning Men
DESCRIPTION:All men are welcome to join us every week for fellowship\, Bible study and prayer. Our meetings are informal and no preparation is required. \nRegister: redeemerws.com/tuesdaymen \nQuestions? Contact Drew Melton
URL:https://redeemerws.com/event/tuesday-morning-men-4/2026-04-14/
LOCATION:W83 Ministry Center\, 5th Floor Loft\, 150 W. 83rd St.\, New York\, NY\, 10024\, United States
CATEGORIES:Community Groups
END:VEVENT
BEGIN:VEVENT
DTSTART;TZID=UTC:20260407T070000
DTEND;TZID=UTC:20260407T081500
DTSTAMP:20260422T124059
CREATED:20250627T200157Z
LAST-MODIFIED:20251125T191708Z
UID:10017942-1775545200-1775549700@redeemerws.com
SUMMARY:Tuesday Morning Men
DESCRIPTION:All men are welcome to join us every week for fellowship\, Bible study and prayer. Our meetings are informal and no preparation is required. \nRegister: redeemerws.com/tuesdaymen \nQuestions? Contact Drew Melton
URL:https://redeemerws.com/event/tuesday-morning-men-4/2026-04-07/
LOCATION:W83 Ministry Center\, 5th Floor Loft\, 150 W. 83rd St.\, New York\, NY\, 10024\, United States
CATEGORIES:Community Groups
END:VEVENT
BEGIN:VEVENT
DTSTART;TZID=UTC:20260331T094500
DTEND;TZID=UTC:20260331T123000
DTSTAMP:20260422T124059
CREATED:20250702T223823Z
LAST-MODIFIED:20251117T160316Z
UID:10020539-1774950300-1774960200@redeemerws.com
SUMMARY:West Side Women (Morning)
DESCRIPTION:We welcome all women to connect with other women and to find friendship\, encouragement\, and grow in the Christian faith together through Bible study and prayer. We welcome drop-ins for any part of our weekly morning meetings at W83 Ministry Center. Register for meeting details. \nWe will have an optional time of lunching together after the study and prayer today. Feel free to bring your lunch or something to share! \nRegister: redeemerws.com/morningwomen \nQuestions? Contact Susana Gough
URL:https://redeemerws.com/event/west-side-women-morning-6/2026-03-31/
LOCATION:W83 Ministry Center\, 5th Floor Loft\, 150 W. 83rd St.\, New York\, NY\, 10024\, United States
CATEGORIES:Community Groups
END:VEVENT
BEGIN:VEVENT
DTSTART;TZID=UTC:20260331T070000
DTEND;TZID=UTC:20260331T081500
DTSTAMP:20260422T124059
CREATED:20250627T200157Z
LAST-MODIFIED:20251125T191708Z
UID:10017941-1774940400-1774944900@redeemerws.com
SUMMARY:Tuesday Morning Men
DESCRIPTION:All men are welcome to join us every week for fellowship\, Bible study and prayer. Our meetings are informal and no preparation is required. \nRegister: redeemerws.com/tuesdaymen \nQuestions? Contact Drew Melton
URL:https://redeemerws.com/event/tuesday-morning-men-4/2026-03-31/
LOCATION:W83 Ministry Center\, 5th Floor Loft\, 150 W. 83rd St.\, New York\, NY\, 10024\, United States
CATEGORIES:Community Groups
END:VEVENT
BEGIN:VEVENT
DTSTART;TZID=UTC:20260324T070000
DTEND;TZID=UTC:20260324T081500
DTSTAMP:20260422T124059
CREATED:20250627T200157Z
LAST-MODIFIED:20251125T191708Z
UID:10017940-1774335600-1774340100@redeemerws.com
SUMMARY:Tuesday Morning Men
DESCRIPTION:All men are welcome to join us every week for fellowship\, Bible study and prayer. Our meetings are informal and no preparation is required. \nRegister: redeemerws.com/tuesdaymen \nQuestions? Contact Drew Melton
URL:https://redeemerws.com/event/tuesday-morning-men-4/2026-03-24/
LOCATION:W83 Ministry Center\, 5th Floor Loft\, 150 W. 83rd St.\, New York\, NY\, 10024\, United States
CATEGORIES:Community Groups
END:VEVENT
BEGIN:VEVENT
DTSTART;TZID=UTC:20260317T070000
DTEND;TZID=UTC:20260317T081500
DTSTAMP:20260422T124059
CREATED:20250627T200157Z
LAST-MODIFIED:20251125T191708Z
UID:10017939-1773730800-1773735300@redeemerws.com
SUMMARY:Tuesday Morning Men
DESCRIPTION:All men are welcome to join us every week for fellowship\, Bible study and prayer. Our meetings are informal and no preparation is required. \nRegister: redeemerws.com/tuesdaymen \nQuestions? Contact Drew Melton
URL:https://redeemerws.com/event/tuesday-morning-men-4/2026-03-17/
LOCATION:W83 Ministry Center\, 5th Floor Loft\, 150 W. 83rd St.\, New York\, NY\, 10024\, United States
CATEGORIES:Community Groups
END:VEVENT
BEGIN:VEVENT
DTSTART;TZID=UTC:20260310T070000
DTEND;TZID=UTC:20260310T081500
DTSTAMP:20260422T124059
CREATED:20250627T200157Z
LAST-MODIFIED:20251125T191708Z
UID:10017938-1773126000-1773130500@redeemerws.com
SUMMARY:Tuesday Morning Men
DESCRIPTION:All men are welcome to join us every week for fellowship\, Bible study and prayer. Our meetings are informal and no preparation is required. \nRegister: redeemerws.com/tuesdaymen \nQuestions? Contact Drew Melton
URL:https://redeemerws.com/event/tuesday-morning-men-4/2026-03-10/
LOCATION:W83 Ministry Center\, 5th Floor Loft\, 150 W. 83rd St.\, New York\, NY\, 10024\, United States
CATEGORIES:Community Groups
END:VEVENT
BEGIN:VEVENT
DTSTART;TZID=America/New_York:20260309T190000
DTEND;TZID=America/New_York:20260309T210000
DTSTAMP:20260422T124059
CREATED:20250225T181449Z
LAST-MODIFIED:20251215T234801Z
UID:10017409-1773082800-1773090000@redeemerws.com
SUMMARY:Members' Connect
DESCRIPTION:Members’ Connect gatherings create space for RWS Members to meaningfully contribute to and shape our church’s ministry.At each Members’ Connect we’ll do four things: \n\n7-7:30 pm: Eat together.\n7:30-8 pm: Learn together.\n8-8:30 pm: Plan together.\n8:30-9 pm: Pray together.\n\nMembers\, please follow the instructions in the email you received to RSVP. Contact karen.markham@redeemerws.com with any questions.
URL:https://redeemerws.com/event/members-connect/2026-03-09/
LOCATION:W83 Ministry Center\, 5th Floor Loft\, 150 W. 83rd St.\, New York\, NY\, 10024\, United States
CATEGORIES:Membership
END:VEVENT
BEGIN:VEVENT
DTSTART;TZID=UTC:20260303T070000
DTEND;TZID=UTC:20260303T081500
DTSTAMP:20260422T124059
CREATED:20250627T200157Z
LAST-MODIFIED:20251125T191708Z
UID:10017937-1772521200-1772525700@redeemerws.com
SUMMARY:Tuesday Morning Men
DESCRIPTION:All men are welcome to join us every week for fellowship\, Bible study and prayer. Our meetings are informal and no preparation is required. \nRegister: redeemerws.com/tuesdaymen \nQuestions? Contact Drew Melton
URL:https://redeemerws.com/event/tuesday-morning-men-4/2026-03-03/
LOCATION:W83 Ministry Center\, 5th Floor Loft\, 150 W. 83rd St.\, New York\, NY\, 10024\, United States
CATEGORIES:Community Groups
END:VEVENT
BEGIN:VEVENT
DTSTART;TZID=UTC:20260224T094500
DTEND;TZID=UTC:20260224T123000
DTSTAMP:20260422T124059
CREATED:20250702T223823Z
LAST-MODIFIED:20251117T160316Z
UID:10020538-1771926300-1771936200@redeemerws.com
SUMMARY:West Side Women (Morning)
DESCRIPTION:We welcome all women to connect with other women and to find friendship\, encouragement\, and grow in the Christian faith together through Bible study and prayer. We welcome drop-ins for any part of our weekly morning meetings at W83 Ministry Center. Register for meeting details. \nWe will have an optional time of lunching together after the study and prayer today. Feel free to bring your lunch or something to share! \nRegister: redeemerws.com/morningwomen \nQuestions? Contact Susana Gough
URL:https://redeemerws.com/event/west-side-women-morning-6/2026-02-24/
LOCATION:W83 Ministry Center\, 5th Floor Loft\, 150 W. 83rd St.\, New York\, NY\, 10024\, United States
CATEGORIES:Community Groups
END:VEVENT
BEGIN:VEVENT
DTSTART;TZID=UTC:20260224T070000
DTEND;TZID=UTC:20260224T081500
DTSTAMP:20260422T124059
CREATED:20250627T200157Z
LAST-MODIFIED:20251125T191708Z
UID:10017936-1771916400-1771920900@redeemerws.com
SUMMARY:Tuesday Morning Men
DESCRIPTION:All men are welcome to join us every week for fellowship\, Bible study and prayer. Our meetings are informal and no preparation is required. \nRegister: redeemerws.com/tuesdaymen \nQuestions? Contact Drew Melton
URL:https://redeemerws.com/event/tuesday-morning-men-4/2026-02-24/
LOCATION:W83 Ministry Center\, 5th Floor Loft\, 150 W. 83rd St.\, New York\, NY\, 10024\, United States
CATEGORIES:Community Groups
END:VEVENT
BEGIN:VEVENT
DTSTART;TZID=America/New_York:20260218T174500
DTEND;TZID=America/New_York:20260218T184500
DTSTAMP:20260422T124059
CREATED:20260128T173411Z
LAST-MODIFIED:20260205T192531Z
UID:10020597-1771436700-1771440300@redeemerws.com
SUMMARY:WS Youth Ash Wednesday Dinner
DESCRIPTION:This year\, we are hosting an Ash Wednesday dinner for the youth before Redeemer West Side’s service. Starting at 5:45 pm\, we will have a time of food and fellowship before heading down to the Sanctuary for an Ash Wednesday service at 7 pm. View the full Lent schedule at this link. \n\nWhen: Wednesday\, February 18\nTime: From 5:45 to 6:45 pm\nWhere: W83 Ministry Center\, 150 W 83rd St\n\nIf you have any questions or have any dietary preferences\, please contact hello@wsyouth.com.
URL:https://redeemerws.com/event/ws-youth-ash-wednesday-dinner/
LOCATION:W83 Ministry Center\, 5th Floor Loft\, 150 W. 83rd St.\, New York\, NY\, 10024\, United States
CATEGORIES:WS Youth
END:VEVENT
BEGIN:VEVENT
DTSTART;TZID=UTC:20260217T070000
DTEND;TZID=UTC:20260217T081500
DTSTAMP:20260422T124059
CREATED:20250627T200157Z
LAST-MODIFIED:20251125T191708Z
UID:10017935-1771311600-1771316100@redeemerws.com
SUMMARY:Tuesday Morning Men
DESCRIPTION:All men are welcome to join us every week for fellowship\, Bible study and prayer. Our meetings are informal and no preparation is required. \nRegister: redeemerws.com/tuesdaymen \nQuestions? Contact Drew Melton
URL:https://redeemerws.com/event/tuesday-morning-men-4/2026-02-17/
LOCATION:W83 Ministry Center\, 5th Floor Loft\, 150 W. 83rd St.\, New York\, NY\, 10024\, United States
CATEGORIES:Community Groups
END:VEVENT
BEGIN:VEVENT
DTSTART;TZID=UTC:20260210T070000
DTEND;TZID=UTC:20260210T081500
DTSTAMP:20260422T124059
CREATED:20250627T200157Z
LAST-MODIFIED:20251125T191708Z
UID:10017934-1770706800-1770711300@redeemerws.com
SUMMARY:Tuesday Morning Men
DESCRIPTION:All men are welcome to join us every week for fellowship\, Bible study and prayer. Our meetings are informal and no preparation is required. \nRegister: redeemerws.com/tuesdaymen \nQuestions? Contact Drew Melton
URL:https://redeemerws.com/event/tuesday-morning-men-4/2026-02-10/
LOCATION:W83 Ministry Center\, 5th Floor Loft\, 150 W. 83rd St.\, New York\, NY\, 10024\, United States
CATEGORIES:Community Groups
END:VEVENT
BEGIN:VEVENT
DTSTART;TZID=America/New_York:20260207T190000
DTEND;TZID=America/New_York:20260207T213000
DTSTAMP:20260422T124059
CREATED:20260112T162436Z
LAST-MODIFIED:20260115T185300Z
UID:10020591-1770490800-1770499800@redeemerws.com
SUMMARY:Community Salsa Night
DESCRIPTION:Join us for another night of salsa at Redeemer West Side! \nWhether you’re brand new to salsa or love to move\, you’re invited to an evening full of rhythm\, music\, and community. Led by experienced salsa dancer Moises Recinos\, the 90-minute group lesson will introduce the fundamentals of the Chachacha\, which combines salsa basic steps\, boogaloo\, and other types of dancing within the Latin genre. No experience or partner needed – just come ready to learn and have a good time! \nAfter the group lesson\, stay for open dancing\, light refreshments\, and a chance to mingle with others in our community. Bring a friend\, meet new people\, and discover the joy that dancing and music can bring to our relationships. \nSaturday\, February 7\n7 – 9:30 pm\n(doors open at 6:30 pm)\n$15 per ticket \nPlease register HERE. \nThis event is for adults (18+) only and pre-registration is required. Space is limited\, so sign up ASAP – we can’t wait to dance with you!
URL:https://redeemerws.com/event/community-salsa-night-2/
LOCATION:W83 Ministry Center\, 5th Floor Loft\, 150 W. 83rd St.\, New York\, NY\, 10024\, United States
ATTACH;FMTTYPE=image/png:https://redeemerws.com/wp-content/uploads/2026/01/SalsaNight-Slide.png
END:VEVENT
BEGIN:VEVENT
DTSTART;TZID=UTC:20260203T070000
DTEND;TZID=UTC:20260203T081500
DTSTAMP:20260422T124059
CREATED:20250627T200157Z
LAST-MODIFIED:20251125T191708Z
UID:10017933-1770102000-1770106500@redeemerws.com
SUMMARY:Tuesday Morning Men
DESCRIPTION:All men are welcome to join us every week for fellowship\, Bible study and prayer. Our meetings are informal and no preparation is required. \nRegister: redeemerws.com/tuesdaymen \nQuestions? Contact Drew Melton
URL:https://redeemerws.com/event/tuesday-morning-men-4/2026-02-03/
LOCATION:W83 Ministry Center\, 5th Floor Loft\, 150 W. 83rd St.\, New York\, NY\, 10024\, United States
CATEGORIES:Community Groups
END:VEVENT
BEGIN:VEVENT
DTSTART;TZID=UTC:20260127T094500
DTEND;TZID=UTC:20260127T123000
DTSTAMP:20260422T124059
CREATED:20250702T223823Z
LAST-MODIFIED:20251117T160316Z
UID:10020537-1769507100-1769517000@redeemerws.com
SUMMARY:West Side Women (Morning)
DESCRIPTION:We welcome all women to connect with other women and to find friendship\, encouragement\, and grow in the Christian faith together through Bible study and prayer. We welcome drop-ins for any part of our weekly morning meetings at W83 Ministry Center. Register for meeting details. \nWe will have an optional time of lunching together after the study and prayer today. Feel free to bring your lunch or something to share! \nRegister: redeemerws.com/morningwomen \nQuestions? Contact Susana Gough
URL:https://redeemerws.com/event/west-side-women-morning-6/2026-01-27/
LOCATION:W83 Ministry Center\, 5th Floor Loft\, 150 W. 83rd St.\, New York\, NY\, 10024\, United States
CATEGORIES:Community Groups
END:VEVENT
BEGIN:VEVENT
DTSTART;TZID=UTC:20260127T070000
DTEND;TZID=UTC:20260127T081500
DTSTAMP:20260422T124059
CREATED:20250627T200157Z
LAST-MODIFIED:20251125T191708Z
UID:10017932-1769497200-1769501700@redeemerws.com
SUMMARY:Tuesday Morning Men
DESCRIPTION:All men are welcome to join us every week for fellowship\, Bible study and prayer. Our meetings are informal and no preparation is required. \nRegister: redeemerws.com/tuesdaymen \nQuestions? Contact Drew Melton
URL:https://redeemerws.com/event/tuesday-morning-men-4/2026-01-27/
LOCATION:W83 Ministry Center\, 5th Floor Loft\, 150 W. 83rd St.\, New York\, NY\, 10024\, United States
CATEGORIES:Community Groups
END:VEVENT
BEGIN:VEVENT
DTSTART;TZID=America/New_York:20260121T173000
DTEND;TZID=America/New_York:20260121T190000
DTSTAMP:20260422T124059
CREATED:20251217T181523Z
LAST-MODIFIED:20251217T213411Z
UID:10020585-1769016600-1769022000@redeemerws.com
SUMMARY:Family Night
DESCRIPTION:Family Nights are for families of all stages of life to connect\, worship\, share a meal\, and grow together. We would love for your whole family (kids\, youth\, and parents) to join us! Each gathering will look a little different\, but every one is designed to nurture faith\, strengthen relationships\, and create moments of joy along the way.\n\nCommunity is where faith takes root and families flourish. We look forward to growing together as one church family!\n\n\nOnline registration is required. If someone in your family has allergies\, please let us know by completing our registration form. Register for the December date at this link: https://my.redeemer.com/OnlineReg/16129
URL:https://redeemerws.com/event/family-night/
LOCATION:W83 Ministry Center\, 5th Floor Loft\, 150 W. 83rd St.\, New York\, NY\, 10024\, United States
CATEGORIES:WS Kids,WS Youth
ATTACH;FMTTYPE=image/jpeg:https://redeemerws.com/wp-content/uploads/2025/12/Slide_1.jpg
END:VEVENT
BEGIN:VEVENT
DTSTART;TZID=UTC:20260120T070000
DTEND;TZID=UTC:20260120T081500
DTSTAMP:20260422T124059
CREATED:20250627T200157Z
LAST-MODIFIED:20251125T191708Z
UID:10017931-1768892400-1768896900@redeemerws.com
SUMMARY:Tuesday Morning Men
DESCRIPTION:All men are welcome to join us every week for fellowship\, Bible study and prayer. Our meetings are informal and no preparation is required. \nRegister: redeemerws.com/tuesdaymen \nQuestions? Contact Drew Melton
URL:https://redeemerws.com/event/tuesday-morning-men-4/2026-01-20/
LOCATION:W83 Ministry Center\, 5th Floor Loft\, 150 W. 83rd St.\, New York\, NY\, 10024\, United States
CATEGORIES:Community Groups
END:VEVENT
BEGIN:VEVENT
DTSTART;TZID=UTC:20260113T070000
DTEND;TZID=UTC:20260113T081500
DTSTAMP:20260422T124059
CREATED:20250627T200157Z
LAST-MODIFIED:20251125T191708Z
UID:10017930-1768287600-1768292100@redeemerws.com
SUMMARY:Tuesday Morning Men
DESCRIPTION:All men are welcome to join us every week for fellowship\, Bible study and prayer. Our meetings are informal and no preparation is required. \nRegister: redeemerws.com/tuesdaymen \nQuestions? Contact Drew Melton
URL:https://redeemerws.com/event/tuesday-morning-men-4/2026-01-13/
LOCATION:W83 Ministry Center\, 5th Floor Loft\, 150 W. 83rd St.\, New York\, NY\, 10024\, United States
CATEGORIES:Community Groups
END:VEVENT
BEGIN:VEVENT
DTSTART;TZID=UTC:20260106T070000
DTEND;TZID=UTC:20260106T081500
DTSTAMP:20260422T124059
CREATED:20250627T200157Z
LAST-MODIFIED:20251125T191708Z
UID:10017929-1767682800-1767687300@redeemerws.com
SUMMARY:Tuesday Morning Men
DESCRIPTION:All men are welcome to join us every week for fellowship\, Bible study and prayer. Our meetings are informal and no preparation is required. \nRegister: redeemerws.com/tuesdaymen \nQuestions? Contact Drew Melton
URL:https://redeemerws.com/event/tuesday-morning-men-4/2026-01-06/
LOCATION:W83 Ministry Center\, 5th Floor Loft\, 150 W. 83rd St.\, New York\, NY\, 10024\, United States
CATEGORIES:Community Groups
END:VEVENT
BEGIN:VEVENT
DTSTART;TZID=America/New_York:20251217T173000
DTEND;TZID=America/New_York:20251217T190000
DTSTAMP:20260422T124059
CREATED:20251118T145557Z
LAST-MODIFIED:20251203T163547Z
UID:10020543-1765992600-1765998000@redeemerws.com
SUMMARY:Family Night
DESCRIPTION:Family Nights are for families of all stages of life to connect\, worship\, share a meal\, and grow together. We would love for your whole family (kids\, youth\, and parents) to join us! Each gathering will look a little different\, but every one is designed to nurture faith\, strengthen relationships\, and create moments of joy along the way.\n\nCommunity is where faith takes root and families flourish. We look forward to growing together as one church family!\n\n\nOnline registration is required. If someone in your family has allergies\, please let us know by completing our registration form. Register for the December date at this link: https://my.redeemer.com/OnlineReg/16121.
URL:https://redeemerws.com/event/family-night-12-2025/
LOCATION:W83 Ministry Center\, 5th Floor Loft\, 150 W. 83rd St.\, New York\, NY\, 10024\, United States
CATEGORIES:WS Kids,WS Youth
ATTACH;FMTTYPE=image/jpeg:https://redeemerws.com/wp-content/uploads/2025/11/Slide-December.jpg
END:VEVENT
BEGIN:VEVENT
DTSTART;TZID=UTC:20251216T070000
DTEND;TZID=UTC:20251216T081500
DTSTAMP:20260422T124059
CREATED:20250627T200157Z
LAST-MODIFIED:20251125T191708Z
UID:10017927-1765868400-1765872900@redeemerws.com
SUMMARY:Tuesday Morning Men
DESCRIPTION:All men are welcome to join us every week for fellowship\, Bible study and prayer. Our meetings are informal and no preparation is required. \nRegister: redeemerws.com/tuesdaymen \nQuestions? Contact Drew Melton
URL:https://redeemerws.com/event/tuesday-morning-men-4/2025-12-16/
LOCATION:W83 Ministry Center\, 5th Floor Loft\, 150 W. 83rd St.\, New York\, NY\, 10024\, United States
CATEGORIES:Community Groups
END:VEVENT
BEGIN:VEVENT
DTSTART;TZID=America/New_York:20251212T190000
DTEND;TZID=America/New_York:20251212T210000
DTSTAMP:20260422T124059
CREATED:20251124T155312Z
LAST-MODIFIED:20251125T185619Z
UID:10020552-1765566000-1765573200@redeemerws.com
SUMMARY:Young Adults Christmas Party
DESCRIPTION:Join the Young Adults for a festive Christmas Party! Don your coziest Christmas sweater\, and get ready for a fun night of food\, drinks\, and festive Christmas activities. \nFriday\, December 12\, 2025\n7:00pm\nW83\, 5th Floor Loft \nPlease register HERE.  \nThe cost is $10/person. \nPlease register by Wednesday\, December 10th. 
URL:https://redeemerws.com/event/young-adults-christmas-party/
LOCATION:W83 Ministry Center\, 5th Floor Loft\, 150 W. 83rd St.\, New York\, NY\, 10024\, United States
ATTACH;FMTTYPE=image/png:https://redeemerws.com/wp-content/uploads/2025/11/Red-and-Green-Vintage-Floral-Watercolor-Christmas-Invitation.png
END:VEVENT
BEGIN:VEVENT
DTSTART;TZID=UTC:20251209T070000
DTEND;TZID=UTC:20251209T081500
DTSTAMP:20260422T124059
CREATED:20250627T200157Z
LAST-MODIFIED:20251125T191708Z
UID:10017926-1765263600-1765268100@redeemerws.com
SUMMARY:Tuesday Morning Men
DESCRIPTION:All men are welcome to join us every week for fellowship\, Bible study and prayer. Our meetings are informal and no preparation is required. \nRegister: redeemerws.com/tuesdaymen \nQuestions? Contact Drew Melton
URL:https://redeemerws.com/event/tuesday-morning-men-4/2025-12-09/
LOCATION:W83 Ministry Center\, 5th Floor Loft\, 150 W. 83rd St.\, New York\, NY\, 10024\, United States
CATEGORIES:Community Groups
END:VEVENT
BEGIN:VEVENT
DTSTART;TZID=America/New_York:20251208T190000
DTEND;TZID=America/New_York:20251208T210000
DTSTAMP:20260422T124059
CREATED:20250225T181449Z
LAST-MODIFIED:20251215T234801Z
UID:10017408-1765220400-1765227600@redeemerws.com
SUMMARY:Members' Connect
DESCRIPTION:Members’ Connect gatherings create space for RWS Members to meaningfully contribute to and shape our church’s ministry.At each Members’ Connect we’ll do four things: \n\n7-7:30 pm: Eat together.\n7:30-8 pm: Learn together.\n8-8:30 pm: Plan together.\n8:30-9 pm: Pray together.\n\nMembers\, please follow the instructions in the email you received to RSVP. Contact karen.markham@redeemerws.com with any questions.
URL:https://redeemerws.com/event/members-connect/2025-12-08/
LOCATION:W83 Ministry Center\, 5th Floor Loft\, 150 W. 83rd St.\, New York\, NY\, 10024\, United States
CATEGORIES:Membership
END:VEVENT
BEGIN:VEVENT
DTSTART;TZID=America/New_York:20251205T200000
DTEND;TZID=America/New_York:20251205T213000
DTSTAMP:20260422T124059
CREATED:20251113T193813Z
LAST-MODIFIED:20251117T140520Z
UID:10020528-1764964800-1764970200@redeemerws.com
SUMMARY:HS West Side Youth Christmas Party
DESCRIPTION:High schoolers\, you are invited! Merry Christmas from the West Side Youth Team! On Friday\, December 5th\, we will be having our annual West Side Youth Christmas parties for Middle and High Schoolers\, where we will come together and decorate cookies\, sing karaoke\, and most importantly\, celebrate the birth of Jesus. Note: For high school\, a White Elephant gift exchange will be held ($20 Maximum) for those who wish to participate. We can’t wait to see you there!
URL:https://redeemerws.com/event/hs-west-side-youth-christmas-party/
LOCATION:W83 Ministry Center\, 5th Floor Loft\, 150 W. 83rd St.\, New York\, NY\, 10024\, United States
CATEGORIES:WS Youth
END:VEVENT
BEGIN:VEVENT
DTSTART;TZID=America/New_York:20251205T180000
DTEND;TZID=America/New_York:20251205T193000
DTSTAMP:20260422T124059
CREATED:20251028T230640Z
LAST-MODIFIED:20251113T193539Z
UID:10020427-1764957600-1764963000@redeemerws.com
SUMMARY:MS West Side Youth Christmas Party
DESCRIPTION:Middle schoolers are invited! Merry Christmas from the West Side Youth Team! On Friday\, December 5th\, we will be having our annual West Side Youth Christmas parties for Middle and High Schoolers where we will come together and decorate cookies\, sing karaoke\, and most importantly\, celebrate the birth of Jesus.
URL:https://redeemerws.com/event/west-side-youth-christmas-party/
LOCATION:W83 Ministry Center\, 5th Floor Loft\, 150 W. 83rd St.\, New York\, NY\, 10024\, United States
CATEGORIES:WS Youth
END:VEVENT
END:VCALENDAR