BEGIN:VCALENDAR
VERSION:2.0
PRODID:-//Redeemer West Side - ECPv6.15.20//NONSGML v1.0//EN
CALSCALE:GREGORIAN
METHOD:PUBLISH
X-ORIGINAL-URL:https://redeemerws.com
X-WR-CALDESC:Events for Redeemer West Side
REFRESH-INTERVAL;VALUE=DURATION:PT1H
X-Robots-Tag:noindex
X-PUBLISHED-TTL:PT1H
BEGIN:VTIMEZONE
TZID:UTC
BEGIN:STANDARD
TZOFFSETFROM:+0000
TZOFFSETTO:+0000
TZNAME:UTC
DTSTART:20250101T000000
END:STANDARD
END:VTIMEZONE
BEGIN:VTIMEZONE
TZID:America/New_York
BEGIN:DAYLIGHT
TZOFFSETFROM:-0500
TZOFFSETTO:-0400
TZNAME:EDT
DTSTART:20250309T070000
END:DAYLIGHT
BEGIN:STANDARD
TZOFFSETFROM:-0400
TZOFFSETTO:-0500
TZNAME:EST
DTSTART:20251102T060000
END:STANDARD
BEGIN:DAYLIGHT
TZOFFSETFROM:-0500
TZOFFSETTO:-0400
TZNAME:EDT
DTSTART:20260308T070000
END:DAYLIGHT
BEGIN:STANDARD
TZOFFSETFROM:-0400
TZOFFSETTO:-0500
TZNAME:EST
DTSTART:20261101T060000
END:STANDARD
BEGIN:DAYLIGHT
TZOFFSETFROM:-0500
TZOFFSETTO:-0400
TZNAME:EDT
DTSTART:20270314T070000
END:DAYLIGHT
BEGIN:STANDARD
TZOFFSETFROM:-0400
TZOFFSETTO:-0500
TZNAME:EST
DTSTART:20271107T060000
END:STANDARD
END:VTIMEZONE
BEGIN:VEVENT
DTSTART;TZID=UTC:20260428T070000
DTEND;TZID=UTC:20260428T081500
DTSTAMP:20260422T110643
CREATED:20250627T200157Z
LAST-MODIFIED:20251125T191708Z
UID:10017945-1777359600-1777364100@redeemerws.com
SUMMARY:Tuesday Morning Men
DESCRIPTION:All men are welcome to join us every week for fellowship\, Bible study and prayer. Our meetings are informal and no preparation is required. \nRegister: redeemerws.com/tuesdaymen \nQuestions? Contact Drew Melton
URL:https://redeemerws.com/event/tuesday-morning-men-4/2026-04-28/
LOCATION:W83 Ministry Center\, 5th Floor Loft\, 150 W. 83rd St.\, New York\, NY\, 10024\, United States
CATEGORIES:Community Groups
END:VEVENT
BEGIN:VEVENT
DTSTART;TZID=UTC:20260428T094500
DTEND;TZID=UTC:20260428T123000
DTSTAMP:20260422T110643
CREATED:20250702T223823Z
LAST-MODIFIED:20251117T160316Z
UID:10020540-1777369500-1777379400@redeemerws.com
SUMMARY:West Side Women (Morning)
DESCRIPTION:We welcome all women to connect with other women and to find friendship\, encouragement\, and grow in the Christian faith together through Bible study and prayer. We welcome drop-ins for any part of our weekly morning meetings at W83 Ministry Center. Register for meeting details. \nWe will have an optional time of lunching together after the study and prayer today. Feel free to bring your lunch or something to share! \nRegister: redeemerws.com/morningwomen \nQuestions? Contact Susana Gough
URL:https://redeemerws.com/event/west-side-women-morning-6/2026-04-28/
LOCATION:W83 Ministry Center\, 5th Floor Loft\, 150 W. 83rd St.\, New York\, NY\, 10024\, United States
CATEGORIES:Community Groups
END:VEVENT
BEGIN:VEVENT
DTSTART;TZID=America/New_York:20260429T173000
DTEND;TZID=America/New_York:20260429T190000
DTSTAMP:20260422T110643
CREATED:20260409T140530Z
LAST-MODIFIED:20260416T142735Z
UID:10020759-1777483800-1777489200@redeemerws.com
SUMMARY:Family Night
DESCRIPTION:Family Nights are for families of all stages of life to connect\, worship\, share a meal\, and grow together. We would love for your whole family (kids\, youth\, and parents) to join us! Each gathering will look a little different\, but every one is designed to nurture faith\, strengthen relationships\, and create moments of joy along the way. \nCommunity is where faith takes root and families flourish. We look forward to growing together as one church family! \nOnline registration is required. If someone in your family has allergies\, please let us know by completing our registration form. Register for the April 29 date here: redeemerws.com/familynight. \n  \n\n  \nPlease join us for our first-ever Family Night Packing Party! Redeemer is partnering with Hope for New York\, All Angels\, and Project 12.31 to support our neighbors in need. Redeemer Families will be working together to pack Dignity Bags and deliver them to Hope for New York. Come be a part of this exciting new service opportunity! \nThere are three main ways to help: \n\nREGISTER: Join us for the packing event (don’t worry\, dinner is still provided!). Register HERE.\nSUPPORT: Purchase items for our packing event on our Amazon Wishlist HERE!\nPRAY: Pray that we are enabled to help our neighbors!\n\nWhen: April 29\, 5:30 to 7 pm \nWhere: W83 Ministry Center\, 5th-floor Loft \nWhat: Packing Bags for our neighbors in need! \nWhy: Because we are called to love our neighbors! \nWe will have brief\, family-friendly talks from Hope from New York and Project 12.31. This is a great opportunity to learn about how to get involved. Our hope is that families leave the night with a greater understanding of our neighbors in need and tangible ways to volunteer and help out! \nThank you! \nWS Families
URL:https://redeemerws.com/event/family-night-2/
LOCATION:W83 Ministry Center\, 5th Floor Loft\, 150 W. 83rd St.\, New York\, NY\, 10024\, United States
CATEGORIES:WS Kids,WS Youth
ATTACH;FMTTYPE=image/jpeg:https://redeemerws.com/wp-content/uploads/2026/04/Tile_alt.jpg
END:VEVENT
BEGIN:VEVENT
DTSTART;TZID=UTC:20260505T070000
DTEND;TZID=UTC:20260505T081500
DTSTAMP:20260422T110643
CREATED:20250627T200157Z
LAST-MODIFIED:20251125T191708Z
UID:10017946-1777964400-1777968900@redeemerws.com
SUMMARY:Tuesday Morning Men
DESCRIPTION:All men are welcome to join us every week for fellowship\, Bible study and prayer. Our meetings are informal and no preparation is required. \nRegister: redeemerws.com/tuesdaymen \nQuestions? Contact Drew Melton
URL:https://redeemerws.com/event/tuesday-morning-men-4/2026-05-05/
LOCATION:W83 Ministry Center\, 5th Floor Loft\, 150 W. 83rd St.\, New York\, NY\, 10024\, United States
CATEGORIES:Community Groups
END:VEVENT
BEGIN:VEVENT
DTSTART;TZID=America/New_York:20260511T190000
DTEND;TZID=America/New_York:20260511T210000
DTSTAMP:20260422T110643
CREATED:20250225T181449Z
LAST-MODIFIED:20251215T234801Z
UID:10017410-1778526000-1778533200@redeemerws.com
SUMMARY:Members' Connect
DESCRIPTION:Members’ Connect gatherings create space for RWS Members to meaningfully contribute to and shape our church’s ministry.At each Members’ Connect we’ll do four things: \n\n7-7:30 pm: Eat together.\n7:30-8 pm: Learn together.\n8-8:30 pm: Plan together.\n8:30-9 pm: Pray together.\n\nMembers\, please follow the instructions in the email you received to RSVP. Contact karen.markham@redeemerws.com with any questions.
URL:https://redeemerws.com/event/members-connect/2026-05-11/
LOCATION:W83 Ministry Center\, 5th Floor Loft\, 150 W. 83rd St.\, New York\, NY\, 10024\, United States
CATEGORIES:Membership
END:VEVENT
BEGIN:VEVENT
DTSTART;TZID=UTC:20260512T070000
DTEND;TZID=UTC:20260512T081500
DTSTAMP:20260422T110643
CREATED:20250627T200157Z
LAST-MODIFIED:20251125T191708Z
UID:10017947-1778569200-1778573700@redeemerws.com
SUMMARY:Tuesday Morning Men
DESCRIPTION:All men are welcome to join us every week for fellowship\, Bible study and prayer. Our meetings are informal and no preparation is required. \nRegister: redeemerws.com/tuesdaymen \nQuestions? Contact Drew Melton
URL:https://redeemerws.com/event/tuesday-morning-men-4/2026-05-12/
LOCATION:W83 Ministry Center\, 5th Floor Loft\, 150 W. 83rd St.\, New York\, NY\, 10024\, United States
CATEGORIES:Community Groups
END:VEVENT
BEGIN:VEVENT
DTSTART;TZID=America/New_York:20260516T183000
DTEND;TZID=America/New_York:20260516T210000
DTSTAMP:20260422T110643
CREATED:20260414T140244Z
LAST-MODIFIED:20260416T151050Z
UID:10020763-1778956200-1778965200@redeemerws.com
SUMMARY:Young Adults: Salsa into Spring
DESCRIPTION:On the heels of our delightful time of swing dancing at the Young Adults Winter Ball\, dust off your shoes once again! \nJoin us on Saturday\, May 16\, at 150 West 83rd St from 6:30-9 pm for a night of rhythm and flavor. Whether you’re a pro or a beginner\, come for the lessons and stay for the community! \nOn the Menu: Spanish tapas\, charcuterie\, local empanadas\, and an assortment of classic mocktails and cocktails! \nGrab your spot on the dance floor and let’s Salsa into Spring! Spots are limited so please register by May 9 for early bird pricing! \nPlease register here.  \nEarly Bird Pricing: $25 \nThis event is for young adults ages 21 and older. 
URL:https://redeemerws.com/event/young-adults-salsa-into-spring/
LOCATION:W83 Ministry Center\, 5th Floor Loft\, 150 W. 83rd St.\, New York\, NY\, 10024\, United States
ATTACH;FMTTYPE=image/jpeg:https://redeemerws.com/wp-content/uploads/2026/04/Salsa-Into-Spring.jpg
END:VEVENT
BEGIN:VEVENT
DTSTART;TZID=UTC:20260519T070000
DTEND;TZID=UTC:20260519T081500
DTSTAMP:20260422T110643
CREATED:20250627T200157Z
LAST-MODIFIED:20251125T191708Z
UID:10017948-1779174000-1779178500@redeemerws.com
SUMMARY:Tuesday Morning Men
DESCRIPTION:All men are welcome to join us every week for fellowship\, Bible study and prayer. Our meetings are informal and no preparation is required. \nRegister: redeemerws.com/tuesdaymen \nQuestions? Contact Drew Melton
URL:https://redeemerws.com/event/tuesday-morning-men-4/2026-05-19/
LOCATION:W83 Ministry Center\, 5th Floor Loft\, 150 W. 83rd St.\, New York\, NY\, 10024\, United States
CATEGORIES:Community Groups
END:VEVENT
BEGIN:VEVENT
DTSTART;TZID=UTC:20260519T094500
DTEND;TZID=UTC:20260519T123000
DTSTAMP:20260422T110643
CREATED:20250702T223823Z
LAST-MODIFIED:20251117T160316Z
UID:10020541-1779183900-1779193800@redeemerws.com
SUMMARY:West Side Women (Morning)
DESCRIPTION:We welcome all women to connect with other women and to find friendship\, encouragement\, and grow in the Christian faith together through Bible study and prayer. We welcome drop-ins for any part of our weekly morning meetings at W83 Ministry Center. Register for meeting details. \nWe will have an optional time of lunching together after the study and prayer today. Feel free to bring your lunch or something to share! \nRegister: redeemerws.com/morningwomen \nQuestions? Contact Susana Gough
URL:https://redeemerws.com/event/west-side-women-morning-6/2026-05-19/
LOCATION:W83 Ministry Center\, 5th Floor Loft\, 150 W. 83rd St.\, New York\, NY\, 10024\, United States
CATEGORIES:Community Groups
END:VEVENT
BEGIN:VEVENT
DTSTART;TZID=UTC:20260526T070000
DTEND;TZID=UTC:20260526T081500
DTSTAMP:20260422T110643
CREATED:20250627T200157Z
LAST-MODIFIED:20251125T191708Z
UID:10017949-1779778800-1779783300@redeemerws.com
SUMMARY:Tuesday Morning Men
DESCRIPTION:All men are welcome to join us every week for fellowship\, Bible study and prayer. Our meetings are informal and no preparation is required. \nRegister: redeemerws.com/tuesdaymen \nQuestions? Contact Drew Melton
URL:https://redeemerws.com/event/tuesday-morning-men-4/2026-05-26/
LOCATION:W83 Ministry Center\, 5th Floor Loft\, 150 W. 83rd St.\, New York\, NY\, 10024\, United States
CATEGORIES:Community Groups
END:VEVENT
BEGIN:VEVENT
DTSTART;TZID=UTC:20260602T070000
DTEND;TZID=UTC:20260602T081500
DTSTAMP:20260422T110643
CREATED:20250627T200157Z
LAST-MODIFIED:20251125T191708Z
UID:10017950-1780383600-1780388100@redeemerws.com
SUMMARY:Tuesday Morning Men
DESCRIPTION:All men are welcome to join us every week for fellowship\, Bible study and prayer. Our meetings are informal and no preparation is required. \nRegister: redeemerws.com/tuesdaymen \nQuestions? Contact Drew Melton
URL:https://redeemerws.com/event/tuesday-morning-men-4/2026-06-02/
LOCATION:W83 Ministry Center\, 5th Floor Loft\, 150 W. 83rd St.\, New York\, NY\, 10024\, United States
CATEGORIES:Community Groups
END:VEVENT
BEGIN:VEVENT
DTSTART;TZID=UTC:20260609T070000
DTEND;TZID=UTC:20260609T081500
DTSTAMP:20260422T110643
CREATED:20250627T200157Z
LAST-MODIFIED:20251125T191708Z
UID:10017951-1780988400-1780992900@redeemerws.com
SUMMARY:Tuesday Morning Men
DESCRIPTION:All men are welcome to join us every week for fellowship\, Bible study and prayer. Our meetings are informal and no preparation is required. \nRegister: redeemerws.com/tuesdaymen \nQuestions? Contact Drew Melton
URL:https://redeemerws.com/event/tuesday-morning-men-4/2026-06-09/
LOCATION:W83 Ministry Center\, 5th Floor Loft\, 150 W. 83rd St.\, New York\, NY\, 10024\, United States
CATEGORIES:Community Groups
END:VEVENT
BEGIN:VEVENT
DTSTART;TZID=UTC:20260616T070000
DTEND;TZID=UTC:20260616T081500
DTSTAMP:20260422T110643
CREATED:20250627T200157Z
LAST-MODIFIED:20251125T191708Z
UID:10017952-1781593200-1781597700@redeemerws.com
SUMMARY:Tuesday Morning Men
DESCRIPTION:All men are welcome to join us every week for fellowship\, Bible study and prayer. Our meetings are informal and no preparation is required. \nRegister: redeemerws.com/tuesdaymen \nQuestions? Contact Drew Melton
URL:https://redeemerws.com/event/tuesday-morning-men-4/2026-06-16/
LOCATION:W83 Ministry Center\, 5th Floor Loft\, 150 W. 83rd St.\, New York\, NY\, 10024\, United States
CATEGORIES:Community Groups
END:VEVENT
BEGIN:VEVENT
DTSTART;TZID=UTC:20260623T070000
DTEND;TZID=UTC:20260623T081500
DTSTAMP:20260422T110643
CREATED:20250627T200157Z
LAST-MODIFIED:20251125T191708Z
UID:10017953-1782198000-1782202500@redeemerws.com
SUMMARY:Tuesday Morning Men
DESCRIPTION:All men are welcome to join us every week for fellowship\, Bible study and prayer. Our meetings are informal and no preparation is required. \nRegister: redeemerws.com/tuesdaymen \nQuestions? Contact Drew Melton
URL:https://redeemerws.com/event/tuesday-morning-men-4/2026-06-23/
LOCATION:W83 Ministry Center\, 5th Floor Loft\, 150 W. 83rd St.\, New York\, NY\, 10024\, United States
CATEGORIES:Community Groups
END:VEVENT
BEGIN:VEVENT
DTSTART;TZID=UTC:20260630T070000
DTEND;TZID=UTC:20260630T081500
DTSTAMP:20260422T110643
CREATED:20250627T200157Z
LAST-MODIFIED:20251125T191708Z
UID:10017954-1782802800-1782807300@redeemerws.com
SUMMARY:Tuesday Morning Men
DESCRIPTION:All men are welcome to join us every week for fellowship\, Bible study and prayer. Our meetings are informal and no preparation is required. \nRegister: redeemerws.com/tuesdaymen \nQuestions? Contact Drew Melton
URL:https://redeemerws.com/event/tuesday-morning-men-4/2026-06-30/
LOCATION:W83 Ministry Center\, 5th Floor Loft\, 150 W. 83rd St.\, New York\, NY\, 10024\, United States
CATEGORIES:Community Groups
END:VEVENT
END:VCALENDAR